BEGIN:VCALENDAR
VERSION:2.0
PRODID:-//ChamberMaster//Event Calendar 2.0//EN
METHOD:PUBLISH
X-PUBLISHED-TTL:P3D
REFRESH-INTERVAL:P3D
CALSCALE:GREGORIAN
BEGIN:VEVENT
DTSTART;VALUE=DATE:20250710
DTEND;VALUE=DATE:20250711
TRANSP:TRANSPARENT
X-MICROSOFT-CDO-ALLDAYEVENT:TRUE
SUMMARY:Sidewalk Sale Days 2025 SELLER REGISTRATION
DESCRIPTION:Reach thousands of shoppers and showcase your business at Greenwich's biggest shopping event of the year!\n\nAs a Sidewalk Sale Days vendor\, you'll enjoy:\n\n\n	FOUR full days of sales \n\n\n\n	 Prime exposure in the heart of downtown Greenwich\n\n\n\n	Direct access to enthusiastic shoppers looking for great deals\n\n\n\n	Comprehensive advertising and promotions driving traffic to the event\, including print\, social media\, and digital outreach \n\n\n\n	Affordable pricing with maximum visibility in a festive\, high-energy atmosphere\n\n\nVendor spaces are limited and reserved for Greenwich licensed businesses.\n\nDon't miss this opportunity to grow your brand\, clear inventory\, and make valuable local connections!\n\n\n\n2025 Pricing\n\n\n\nExisting Downtown Storefront\n\nChamber Member: $400\n\nNon-Member: $600\n\nNon-Downtown Vendor\n\nChamber Member: $1000\n\nNon-Member: $1350\n\n\n\nJoin the Chamber today to get the Member Rate!\n\n\n\n\nExisting Downtown Businesses Rules & Regulations\n\nWhy Participate:\n\n\n	\n	Largest annual shopping extravaganza of the year for downtown Greenwich!\n	\n	\n	Thousands of shoppers looking for great deals.\n	\n	\n	Sell Summer inventory and outdated inventory.\n	\n	\n	Opportunity to promote your business to new clientele.\n	\n	\n	Be an active leader in the downtown Greenwich community.\n	\n\n\nWhat You Receive:\n\n\n	\n	Includes Town of Greenwich Permits to have tables/tents on sidewalks. All tables and clothing racks must be parallel to street in front of your store so that sidewalk is unobstructed and people can walk on sidewalk.\n	\n	\n	Comprehensive advertising and publicity campaign (print\, social media\, internet) spanning Fairfield\, Westchester\, Orange Counties and NYC to drive traffic to downtown Greenwich to your store.\n	\n	\n	Company name listed on GCC website and one full page newsprint ad (Deadline for registration is June 15th)\n	\n\n\nIMPORTANT:\n\n\n	\n	No other business OR restaurant is allowed to use your sidewalk in front of your store per Town of Greenwich regulations.\n	\n	\n	No music\, megaphones or noise permitted on the sidewalk outside your store.\n	\n	Absolutely no food samples without Health Department approval. Bottled\, sealed water is OK. \n\n\n\n\n\nAre you a Licensed Greenwich Businesses with no downtown storefront? Contact us.\n\n\n\nHOURS: 9:30 a.m. - 6:00 p.m. Thurs through Sat\; 10:00 a.m. - 5:00 p.m. Sunday\n\nRAIN OR SHINE\n\n\n	\n	All vendors must be present from 10am - 5pm all 4 days\, rain or shine\, and cannot move locations without permission from the GCC\, doing so will result in expulsion from the sales.\n\n	The Chamber obtains town permits AT A COST\, ensuring that parking regulations\, zoning restrictions\, police presence and restrictions against obstructing the sidewalk are not enforced during the sidewalk sales. The Chamber also insures the event\, and our liability insurance only covers pre-registered participants.\n\n	A participating business is only allowed to promote that same business from the outside of their location or tent. If another business is promoted outside\, that business will have to pay the full participation fee.\n\n	Only the GCC can give permission for any company\, non-profit or individual to exhibit or be involved in Sidewalk Sales.\n\n	PLEASE NOTE: In the week before and on the days of the Greenwich Sidewalk Sales\, the wording ?Sidewalk Sales? can only be used by paying participants. If a merchant uses this terminology in any signage outside or inside their location or in advertisements\, (whether a Chamber member or not)\, this implies participation and therefore must pay the fee.\n	\n\n\nEmail us for the complete 2025 Rules and Regulations\n\nEmail us for non-downtown required forms
X-ALT-DESC;FMTTYPE=text/html:<p data-end="428" data-start="323">Reach thousands of shoppers and showcase your business at Greenwich&#39\;s biggest shopping event of the year!</p>\n\n<p data-end="475" data-start="430">As a Sidewalk Sale Days vendor\, you&#39\;ll enjoy:</p>\n\n<ul data-end="821" data-start="476">\n	<li data-end="533" data-start="478"><strong data-end="496" data-start="478">FOUR full days of sales</strong><strong data-end="496" data-start="478"><strong data-end="496" data-start="478">&#8203\;</strong></strong></li>\n</ul>\n\n<ul data-end="821" data-start="476">\n	<li><strong data-end="496" data-start="478">&#8203\;Prime exposure</strong> in the heart of downtown Greenwich</li>\n</ul>\n\n<ul data-end="821" data-start="476">\n	<li><strong data-end="553" data-start="536">Direct access</strong> to enthusiastic shoppers looking for great deals</li>\n</ul>\n\n<ul data-end="821" data-start="476">\n	<li><strong data-end="651" data-start="607">Comprehensive advertising and promotions</strong> driving traffic to the event\, including print\, social media\, and digital outreach&#8203\;</li>\n</ul>\n\n<ul>\n	<li><strong data-end="760" data-start="738">Affordable pricing</strong> with maximum visibility in a festive\, high-energy atmosphere</li>\n</ul>\n\n<p data-end="1004" data-start="823">Vendor spaces are limited and reserved for <strong data-end="899" data-start="866">Greenwich licensed businesses</strong>.<br data-end="903" data-start="900" />\nDon&#39\;t miss this opportunity to grow your brand\, clear inventory\, and make valuable local connections!<br />\n<br />\n<u><strong>2025 Pricing</strong></u><br />\n<br />\nExisting Downtown Storefront<br />\nChamber Member: $400<br />\nNon-Member: $600</p>\n\n<p>Non-Downtown Vendor<br />\nChamber Member: $1000<br />\nNon-Member: $1350<br />\n<br />\n<span style="font-size:18px\;"><a href="https://business.greenwichchamber.com/member/newmemberapp" target="_blank"><em><strong>Join the Chamber today to get the Member Rate!</strong></em></a></span></p>\n\n<hr />\n<p><br />\n<span style="font-size:18px\;"><strong>Existing Downtown Businesses Rules &amp\; Regulations</strong></span></p>\n\n<p data-end="142" data-start="122"><strong data-end="142" data-start="122">Why Participate:</strong></p>\n\n<ul data-end="430" data-start="143">\n	<li data-end="217" data-start="143">\n	<p data-end="217" data-start="145">Largest annual shopping extravaganza of the year for downtown Greenwich!</p>\n	</li>\n	<li data-end="266" data-start="218">\n	<p data-end="266" data-start="220">Thousands of shoppers looking for great deals.</p>\n	</li>\n	<li data-end="314" data-start="267">\n	<p data-end="314" data-start="269">Sell Summer inventory and outdated inventory.</p>\n	</li>\n	<li data-end="371" data-start="315">\n	<p data-end="371" data-start="317">Opportunity to promote your business to new clientele.</p>\n	</li>\n	<li data-end="430" data-start="372">\n	<p data-end="430" data-start="374">Be an active leader in the downtown Greenwich community.</p>\n	</li>\n</ul>\n\n<p data-end="453" data-start="432"><strong data-end="453" data-start="432">What You Receive:</strong></p>\n\n<ul data-end="978" data-start="454">\n	<li data-end="671" data-start="454">\n	<p data-end="671" data-start="456">Includes Town of Greenwich Permits to have tables/tents on sidewalks. All tables and clothing racks must be parallel to street in front of your store so that sidewalk is unobstructed and people can walk on sidewalk.</p>\n	</li>\n	<li data-end="865" data-start="672">\n	<p data-end="865" data-start="674">Comprehensive advertising and publicity campaign (print\, social media\, internet) spanning Fairfield\, Westchester\, Orange Counties and NYC to drive traffic to downtown Greenwich to your store.</p>\n	</li>\n	<li data-end="978" data-start="866">\n	<p data-end="978" data-start="868">Company name listed on GCC website and one full page newsprint ad (<strong data-end="977" data-start="935">Deadline for registration is June 15th</strong>)</p>\n	</li>\n</ul>\n\n<p data-end="994" data-start="980"><strong data-end="994" data-start="980">IMPORTANT:</strong></p>\n\n<ul data-end="1290" data-start="995">\n	<li data-end="1118" data-start="995">\n	<p data-end="1118" data-start="997">No other business OR restaurant is allowed to use your sidewalk in front of your store per Town of Greenwich regulations.</p>\n	</li>\n	<li data-end="1196" data-start="1119">\n	<p data-end="1196" data-start="1121">No music\, megaphones or noise permitted on the sidewalk outside your store.</p>\n	</li>\n	<li data-end="1290" data-start="1199">Absolutely no food samples without Health Department approval. Bottled\, sealed water is OK.&#8203\;</li>\n</ul>\n\n<hr />\n<p><br />\n<span style="font-size:18px\;"><strong>Are you a Licensed Greenwich Businesses with no downtown storefront? <a href="mailto:gcc@greenwichchamber.com?subject=Vendor%20Information%20Request">Contact us</a>.</strong></span><br />\n<br />\n<strong data-end="3992" data-start="3911">HOURS: 9:30 a.m. - 6:00 p.m. Thurs through Sat\; 10:00 a.m. - 5:00 p.m. Sunday</strong><br data-end="3995" data-start="3992" />\n<strong data-end="4012" data-start="3995">RAIN OR SHINE</strong></p>\n\n<ul style="margin-top:0\;margin-bottom:0\;padding-inline-start:48px\;">\n	<li aria-level="1" dir="ltr" style="list-style-type: none\; font-size: 12pt\; font-family: Arial\, sans-serif\; color: rgb(0\, 0\, 0)\; background-color: transparent\; font-variant-numeric: normal\; font-variant-east-asian: normal\; font-variant-alternates: normal\; font-variant-position: normal\; font-variant-emoji: normal\; vertical-align: baseline\; white-space: pre\;">\n	<p dir="ltr" role="presentation" style="line-height:1.38\;background-color:#f0f5fb\;margin-top:0pt\;margin-bottom:0pt\;"><span id="docs-internal-guid-d5c1cae1-7fff-9666-2e68-ba3dd11f7545"><span style="font-size: 12pt\; background-color: transparent\; font-variant-numeric: normal\; font-variant-east-asian: normal\; font-variant-alternates: normal\; font-variant-position: normal\; font-variant-emoji: normal\; vertical-align: baseline\; text-wrap-mode: wrap\;">All vendors must be present from 10am - 5pm all 4 days\, rain or shine\, and cannot move locations without permission from the GCC\, doing so will result in expulsion from the sales.<br />\n	<span id="docs-internal-guid-d5c1cae1-7fff-9666-2e68-ba3dd11f7545"><span style="font-size: 12pt\; background-color: transparent\; font-variant-numeric: normal\; font-variant-east-asian: normal\; font-variant-alternates: normal\; font-variant-position: normal\; font-variant-emoji: normal\; vertical-align: baseline\; text-wrap-mode: wrap\;">The Chamber obtains town permits AT A COST\, ensuring that parking regulations\, zoning restrictions\, police presence and restrictions against obstructing the sidewalk are not enforced during the sidewalk sales. The Chamber also insures the event\, and </span><span style="font-size: 12pt\; background-color: transparent\; font-weight: 700\; font-variant-numeric: normal\; font-variant-east-asian: normal\; font-variant-alternates: normal\; font-variant-position: normal\; font-variant-emoji: normal\; vertical-align: baseline\; text-wrap-mode: wrap\;">our liability insurance only covers pre-registered participants.<br />\n	<span id="docs-internal-guid-d5c1cae1-7fff-9666-2e68-ba3dd11f7545"><span style="font-size: 12pt\; background-color: transparent\; font-variant-numeric: normal\; font-variant-east-asian: normal\; font-variant-alternates: normal\; font-variant-position: normal\; font-variant-emoji: normal\; vertical-align: baseline\; text-wrap-mode: wrap\;">A participating business is only allowed to promote that same business from the outside of their location or tent. If another business is promoted outside\, that business will have to pay the full participation fee.<br />\n	<span id="docs-internal-guid-d5c1cae1-7fff-9666-2e68-ba3dd11f7545"><span style="font-size: 12pt\; background-color: transparent\; font-variant-numeric: normal\; font-variant-east-asian: normal\; font-variant-alternates: normal\; font-variant-position: normal\; font-variant-emoji: normal\; vertical-align: baseline\; text-wrap-mode: wrap\;">Only the GCC can give permission for any company\, non-profit or individual to exhibit or be involved in Sidewalk Sales.<br />\n	<span id="docs-internal-guid-d5c1cae1-7fff-9666-2e68-ba3dd11f7545"><span style="font-size: 12pt\; color: rgb(46\, 47\, 47)\; background-color: rgb(252\, 250\, 213)\; font-weight: 700\; font-variant-numeric: normal\; font-variant-east-asian: normal\; font-variant-alternates: normal\; font-variant-position: normal\; font-variant-emoji: normal\; vertical-align: baseline\; text-wrap-mode: wrap\;">PLEASE NOTE:</span><span style="font-size: 12pt\; color: rgb(46\, 47\, 47)\; background-color: rgb(252\, 250\, 213)\; font-variant-numeric: normal\; font-variant-east-asian: normal\; font-variant-alternates: normal\; font-variant-position: normal\; font-variant-emoji: normal\; vertical-align: baseline\; text-wrap-mode: wrap\;"> </span><span style="font-size: 12pt\; background-color: rgb(252\, 250\, 213)\; font-variant-numeric: normal\; font-variant-east-asian: normal\; font-variant-alternates: normal\; font-variant-position: normal\; font-variant-emoji: normal\; vertical-align: baseline\; text-wrap-mode: wrap\;">In the week before and on the days of the Greenwich Sidewalk Sales\, the wording ?Sidewalk Sales? can only be used by paying participants. If a merchant uses this terminology in any signage outside or inside their location or in advertisements\, (whether a Chamber member or not)\, this implies participation and therefore must pay the fee.</span></span></span></span></span></span></span></span></span></span></p>\n	</li>\n</ul>\n\n<p><a href="mailto:gcc@greenwichchamber.com?subject=Sidewalk%20Sale%20Rules%20Request">Email us for the complete 2025 Rules and Regulations</a></p>\n\n<p><a href="mailto:gcc@greenwichchamber.com?subject=Vendor%20Forms%20Request">Email us for non-downtown required forms</a></p>\n
LOCATION:Downtown Greenwich
UID:e.1905.5174832
SEQUENCE:3
DTSTAMP:20260420T080132Z
URL:https://business.greenwichchamber.com/events/details/sidewalk-sale-days-2025-seller-registration-5174832
END:VEVENT

END:VCALENDAR
