BEGIN:VCALENDAR
VERSION:2.0
PRODID:-//ChamberMaster//Event Calendar 2.0//EN
METHOD:PUBLISH
X-PUBLISHED-TTL:P3D
REFRESH-INTERVAL:P3D
CALSCALE:GREGORIAN
BEGIN:VEVENT
DTSTART:20190612T233000Z
DTEND:20190613T020000Z
X-MICROSOFT-CDO-ALLDAYEVENT:FALSE
SUMMARY:PUBLIC HEARING of the Eastern Greenwich Civic Center Committee
DESCRIPTION:NOTICE OF PUBLIC HEARING\n\nOF THE\n\nEASTERN GREENWICH CIVIC CENTER COMMITTEE\n\nGreenwich Town Hall\, Town Hall Meeting Room\n\nWednesday\, June 12\, 2019 at 7:30 p.m.\n\nPublic Hearing Agenda \n\n\n	\n	 Call to order at 7:30 p.m. \n	\n	\n	  Introduction and status summary given by Members of the Eastern Greenwich Civic \n\n	Center Committee (?EGCC?) on the potential rehabilitation or new construction of the Eastern Greenwich Civic Center located on Harding Road in Old Greenwich. Meeting will then be turned over to receive comments and questions from the general public regarding the potential project. \n\n	The regular monthly meeting Agenda will be deferred for the sole purpose of this public hearing where interested groups and individuals are encouraged to attend and participate. Notices of this hearing have been distributed by way of Department of Parks and Recreation database\, including interest and user groups\, stakeholders and adjacent neighbors. \n\n	Minutes of all EGCC meetings are posted online at the Department of Parks and Recreation website. Also on the website is the study\, recommendations and Executive Summary entitled ?Community Needs Summary Report for the Eastern Greenwich Civic Center dated November\, 2018? prepared by independent consultant\, Sports Facilities Advisory Group\, LLC. It is very helpful to review that report. \n	\n	\n	 Motion for Adjournment
X-ALT-DESC;FMTTYPE=text/html:<div class="page" title="Page 1">\n<div class="layoutArea">\n<div class="column">\n<p style="text-align: center\;"><span style="font-size:20px\;"><span style="font-family: ">NOTICE OF PUBLIC HEARING<br>\nOF THE<br>\nEASTERN GREENWICH CIVIC CENTER COMMITTEE</span></span></p>\n\n<p style="text-align: center\;"><span style="font-size: 12.000000pt\; font-family: 'TimesNewRomanPSMT'">Greenwich Town Hall\, Town Hall Meeting Room<br>\nWednesday\, June 12\, 2019 at 7:30 p.m.</span></p>\n\n<p style="text-align: center\;"><span style="font-size: 12.000000pt\; font-family: 'TimesNewRomanPS'\; font-weight: 700"><u>Public Hearing Agenda</u> </span></p>\n\n<ul style="list-style-type: none">\n	<li>\n	<p><span style="font-size: 12.000000pt\; font-family: 'SymbolMT'">&nbsp\;</span><span style="font-size: 12.000000pt\; font-family: 'TimesNewRomanPSMT'">Call to order at 7:30 p.m. </span></p>\n	</li>\n	<li>\n	<p><span style="font-size: 12.000000pt\; font-family: 'SymbolMT'">&nbsp\; </span><span style="font-size: 12.000000pt\; font-family: 'TimesNewRomanPSMT'">Introduction and status summary given by Members of the Eastern Greenwich Civic </span></p>\n\n	<p><span style="font-size: 12.000000pt\; font-family: 'TimesNewRomanPSMT'">Center Committee (?EGCC?) on the potential rehabilitation or new construction of the Eastern Greenwich Civic Center located on Harding Road in Old Greenwich. Meeting will then be turned over to receive comments and questions from the general public regarding the potential project. </span></p>\n\n	<p><span style="font-size: 12.000000pt\; font-family: 'TimesNewRomanPSMT'">The regular monthly meeting Agenda will be deferred for the sole purpose of this public hearing where interested groups and individuals are encouraged to attend and participate. Notices of this hearing have been distributed by way of Department of Parks and Recreation database\, including interest and user groups\, stakeholders and adjacent neighbors. </span></p>\n\n	<p><span style="font-size: 12.000000pt\; font-family: 'TimesNewRomanPSMT'">Minutes of all EGCC meetings are posted online at the Department of Parks and Recreation website. Also on the website is the study\, recommendations and Executive Summary entitled ?Community Needs Summary Report for the Eastern Greenwich Civic Center dated November\, 2018? prepared by independent consultant\, Sports Facilities Advisory Group\, LLC. It is very helpful to review that report. </span></p>\n	</li>\n	<li>\n	<p><span style="font-size: 12.000000pt\; font-family: 'SymbolMT'">&nbsp\;</span><span style="font-size: 12.000000pt\; font-family: 'TimesNewRomanPSMT'">Motion for Adjournment </span></p>\n	</li>\n</ul>\n</div>\n</div>\n</div>\n
LOCATION:Greenwich Town Hall Town Hall Meeting Room
UID:e.1905.5168987
SEQUENCE:3
DTSTAMP:20260424T140812Z
URL:https://business.greenwichchamber.com/events/details/public-hearing-of-the-eastern-greenwich-civic-center-committee-5168987
END:VEVENT

END:VCALENDAR
