BEGIN:VCALENDAR
VERSION:2.0
PRODID:-//ChamberMaster//Event Calendar 2.0//EN
METHOD:PUBLISH
X-PUBLISHED-TTL:P3D
REFRESH-INTERVAL:P3D
CALSCALE:GREGORIAN
BEGIN:VEVENT
DTSTART;VALUE=DATE:20190621
DTEND;VALUE=DATE:20190622
TRANSP:TRANSPARENT
X-MICROSOFT-CDO-ALLDAYEVENT:TRUE
SUMMARY:Make Music Day Norwalk
DESCRIPTION:A worldwide phenomenon observed by hundreds of millions of people in more than 1\,000 cities in 120 countries\, MMD is a day-long musical free-for-all which brings musicians of all ages\, backgrounds\, and skill levels together to make\, enjoy\, perform\, teach and learn about music. Among the U.S. cities hosting major celebrations is Norwalk\, CT. Spearheaded by the Wall Street Neighborhood Association and Norwalk Now\, Make Music Day Norwalk announces its preliminary music line-up which features over 30 live performances including both amateur and professional acts\, music school and high school musicians\, the premiere of Danny Evans' "Norwalk Now" song\, and so much more.
X-ALT-DESC;FMTTYPE=text/html:A worldwide phenomenon observed by hundreds of millions of people in more than 1\,000 cities in 120 countries\, MMD is a day-long musical free-for-all which brings musicians of all ages\, backgrounds\, and skill levels together to make\, enjoy\, perform\, teach and learn about music. Among the U.S. cities hosting major celebrations is Norwalk\, CT. Spearheaded by the Wall Street Neighborhood Association and Norwalk Now\, Make Music Day Norwalk announces its preliminary music line-up which features over 30 live performances including both amateur and professional acts\, music school and high school musicians\, the premiere of Danny Evans&rsquo\; &ldquo\;Norwalk Now&rdquo\; song\, and so much more.
LOCATION:Multiple locations - Norwalk\, CT
UID:e.1905.5168989
SEQUENCE:3
DTSTAMP:20260424T140033Z
URL:https://business.greenwichchamber.com/events/details/make-music-day-norwalk-5168989
END:VEVENT

END:VCALENDAR
