BEGIN:VCALENDAR
VERSION:2.0
PRODID:-//ChamberMaster//Event Calendar 2.0//EN
METHOD:PUBLISH
X-PUBLISHED-TTL:P3D
REFRESH-INTERVAL:P3D
CALSCALE:GREGORIAN
BEGIN:VEVENT
DTSTART:20190620T213000Z
DTEND:20190620T230000Z
X-MICROSOFT-CDO-ALLDAYEVENT:FALSE
SUMMARY:June After Six Networking At OsteoStrong
DESCRIPTION:Join us for June networking at one of the fastest growing businesses in town.  OsteoStrong offers a proven method to help people avoid the effects of osteoporosis and back and joint pain.  It builds bone through an isometric exercise that takes only ten minutes a session. \n\n\n\nNetwork with your Chamber friends\, observe demonstrations\, enjoy wine and small bites.  And\, see if you will be the one to win a free month of the OsteoStrong Platinum Plan.  All participants will be given a free session.\n\n\n\nOsteoStrong is located at 10 Milbank Avenue.  There is ample parking in the lot behind Berkshire Hathaway so drive down Milbank Avenue and make your first right.
X-ALT-DESC;FMTTYPE=text/html:<span style="font-size:12.0pt\;">Join us for June networking at one of the fastest growing businesses in town.&nbsp\; OsteoStrong offers a proven method to help people avoid the effects of osteoporosis and back and joint pain.&nbsp\; It builds bone through an isometric exercise that takes only ten minutes a session.</span>&nbsp\;<br />\n<br />\n<span style="font-size:12.0pt\;">Network with your Chamber friends\, observe demonstrations\, enjoy wine and small bites.&nbsp\; And\, see if you will be the one to win a free month of the OsteoStrong Platinum Plan.&nbsp\; All participants will be given a free session.</span><br />\n<br />\n<span style="font-size:12.0pt\;">OsteoStrong is located at 10 Milbank Avenue.&nbsp\; There is ample parking in the lot behind Berkshire Hathaway so drive down Milbank Avenue and make your first right.</span>
LOCATION:10 Milbank Avenue Greenwich\, CT (enter behind Berkshire Hathaway)
UID:e.1905.5168986
SEQUENCE:3
DTSTAMP:20260424T122118Z
URL:https://business.greenwichchamber.com/events/details/june-after-six-networking-at-osteostrong-5168986
END:VEVENT

END:VCALENDAR
