BEGIN:VCALENDAR
VERSION:2.0
PRODID:-//ChamberMaster//Event Calendar 2.0//EN
METHOD:PUBLISH
X-PUBLISHED-TTL:P3D
REFRESH-INTERVAL:P3D
CALSCALE:GREGORIAN
BEGIN:VEVENT
DTSTART:20190609T170000Z
DTEND:20190609T230000Z
X-MICROSOFT-CDO-ALLDAYEVENT:FALSE
SUMMARY:Greenwich Polo Club
DESCRIPTION:Greenwich Polo Club will kick off its 38th season of high-goal polo with opening day on Sunday\, June 9th. Sunday's game is open to the public and will feature the first match of the second 16-goal Shreve\, Crump & Low Cup. Greenwich Polo Club continues to elevate the polo experience to make every match an event to remember.Tickets may be purchased?online and range from $40 per car for lawn seating\, $60 per car for grandstand seating\, $100 for West Lawn seating\, $300 for box seats (seats 4) and $600 for private cabanas (for 12-20 guests). Gates open at 1:00 p.m. and matches start at 3:00 p.m. The field address is 1 Hurlingham Drive\, Greenwich\, CT 06831. Dogs on leashes are allowed.
X-ALT-DESC;FMTTYPE=text/html:Greenwich Polo Club will kick off its 38th season of high-goal polo with opening day on Sunday\, June 9th. Sunday&rsquo\;s game is open to the public and will feature the first match of the second 16-goal Shreve\, Crump &amp\; Low Cup. Greenwich Polo Club continues to elevate the polo experience to make every match an event to remember.Tickets may be purchased?online and range from $40 per car for lawn seating\, $60 per car for grandstand seating\, $100 for West Lawn seating\, $300 for box seats (seats 4) and $600 for private cabanas (for 12-20 guests). Gates open at 1:00 p.m. and matches start at 3:00 p.m. The field address is 1 Hurlingham Drive\, Greenwich\, CT 06831. Dogs on leashes are allowed.
LOCATION:Greenwich Polo Club 1 Hurlingham Dr. Greenwich\, CT 06831
UID:e.1905.5168982
SEQUENCE:3
DTSTAMP:20260424T140145Z
URL:https://business.greenwichchamber.com/events/details/greenwich-polo-club-5168982
END:VEVENT

END:VCALENDAR
