BEGIN:VCALENDAR
VERSION:2.0
PRODID:-//ChamberMaster//Event Calendar 2.0//EN
METHOD:PUBLISH
X-PUBLISHED-TTL:P3D
REFRESH-INTERVAL:P3D
CALSCALE:GREGORIAN
BEGIN:VEVENT
DTSTART:20190605T213000Z
DTEND:20190605T233000Z
X-MICROSOFT-CDO-ALLDAYEVENT:FALSE
SUMMARY:Greenwich Bank and Trust - Investment Property Showcase
DESCRIPTION:Greenwich Bank and Trust Investment Property Showcase If you are interested in professional advice on all aspects of purchasing\, building or renovating investment properties or vacation homes\, you should register for our event.
X-ALT-DESC;FMTTYPE=text/html:Greenwich Bank and Trust Investment Property Showcase If you are interested in professional advice on all aspects of purchasing\, building or renovating investment properties or vacation homes\, you should register for our event.
LOCATION:115 East Putnam Avenue Greenwich\, CT
UID:e.1905.5168956
SEQUENCE:3
DTSTAMP:20260424T141716Z
URL:https://business.greenwichchamber.com/events/details/greenwich-bank-and-trust-investment-property-showcase-5168956
END:VEVENT

END:VCALENDAR
