BEGIN:VCALENDAR
VERSION:2.0
PRODID:-//ChamberMaster//Event Calendar 2.0//EN
METHOD:PUBLISH
X-PUBLISHED-TTL:P3D
REFRESH-INTERVAL:P3D
CALSCALE:GREGORIAN
BEGIN:VEVENT
DTSTART;VALUE=DATE:20190602
DTEND;VALUE=DATE:20190603
TRANSP:TRANSPARENT
X-MICROSOFT-CDO-ALLDAYEVENT:TRUE
SUMMARY:Frances Ashforth & Lori Glavin Give Artist’s Talk At the Flinn Gallery
DESCRIPTION:Local CT artists\, Frances Ashforth and Lori Glavin will be giving Artists Talks on Sunday\, June 2nd at 2PM at the Flinn Gallery.  The gallery is located on the 2nd floor of Greenwich Library.  "Time & Place:  works on paper" is the final exhibit for the season before summer holiday and the renovation of Greenwich Library.  The public is invited to attend\, with light refreshments to be served.
X-ALT-DESC;FMTTYPE=text/html:Local CT artists\, Frances Ashforth and Lori Glavin will be giving Artists Talks on Sunday\, June 2nd at 2PM at the Flinn Gallery. &nbsp\;The gallery is located on the 2nd floor of Greenwich Library. &nbsp\;&ldquo\;Time &amp\; Place: &nbsp\;works on paper&rdquo\; is the final exhibit for the season before summer holiday and the renovation of Greenwich Library. &nbsp\;The public is invited to attend\, with light refreshments to be served. &nbsp\;
LOCATION:The Flinn Gallery is located on the 2nd Floor of Greenwich Library
UID:e.1905.5168983
SEQUENCE:3
DTSTAMP:20260424T140417Z
URL:https://business.greenwichchamber.com/events/details/frances-ashforth-lori-glavin-give-artist-s-talk-at-the-flinn-gallery-5168983
END:VEVENT

END:VCALENDAR
