BEGIN:VCALENDAR
VERSION:2.0
PRODID:-//ChamberMaster//Event Calendar 2.0//EN
METHOD:PUBLISH
X-PUBLISHED-TTL:P3D
REFRESH-INTERVAL:P3D
CALSCALE:GREGORIAN
BEGIN:VEVENT
DTSTART:20190606T160000Z
DTEND:20190606T180000Z
X-MICROSOFT-CDO-ALLDAYEVENT:FALSE
SUMMARY:Bruce Museum's Art of Design Luncheon and Fashion-Focused Conversation
DESCRIPTION:A pair of notable creative leaders will join together at the Sixth Annual Art of Design luncheon hosted by the Bruce Museum. The annual event\, which benefits the Museum's exhibitions and educational programming\, will take place on Thursday\, June 6\, from 12 to 2 pm at Greenwich Country Club.\n\n\n\nFounded in 2014 as a forum to provide fresh insight into the ever-evolving intersection of art and design\, this year's Art of Design luncheon unites American Fashion Designer Dennis Basso in a fashion-focused conversation with his friend Stellene Volandes\, Editor in Chief of Town & Country magazine. The luncheon will also feature a fashion show\, with music provided by noted local DJ April Larken.\n\n\n\nHelping Co-Chairs Felicity Kostakis and Kamie Lightburn organize the 2019 Art of Design luncheon and conversation is an active and engaged Committee of 79 members from Greenwich\, surrounding communities\, and New York City. The Bruce Museum is grateful for the support of Green of Greenwich and Horseneck Wine & Spirits\, as well as Lanc me and Betteridge for their exclusive raffle items. The event organizers also thank Moffly Media/Greenwich magazine for media sponsorship.\n\n \n\nAdvance registration is required for the Art of Design Luncheon and Fashion-Focused Conversation benefit event at Greenwich Country Club on Thursday\, June 6\, 2019\, 12   2 pm. For tickets and further information\, please visit brucemuseum.org and click "Reservations\," or contact Dawn Handwerker at dhandwerker@brucemuseum.org.
X-ALT-DESC;FMTTYPE=text/html:<span style="font-family: arial\,sans-serif\;">A pair of notable creative leaders will join together at the Sixth Annual <em>Art of Design</em> luncheon hosted by the Bruce Museum. The annual event\, which benefits the Museum&rsquo\;s exhibitions and educational programming\, will take place on Thursday\, June 6\, from 12 to 2 pm at Greenwich Country Club.</span><br />\n<br />\nF<span style="color: black\;"><span style="font-family: arial\,sans-serif\;">ounded in 2014 as a forum to provide fresh insight into the ever-evolving intersection of art and design\, this year&rsquo\;s <em>Art of Design</em> luncheon unites American Fashion Designer Dennis Basso in a fashion-focused conversation with his friend Stellene Volandes\, Editor in Chief of <em>Town &amp\; Country</em> magazine. The luncheon will also feature a fashion show\, with music provided by noted local DJ April Larken.</span></span><br />\n<br />\n<span style="font-family: arial\,sans-serif\;">Helping Co-Chairs Felicity Kostakis and Kamie Lightburn organize the 2019 <em>Art of Design</em> luncheon and conversation is an active and engaged Committee of 79 members from Greenwich\, surrounding communities\, and New York City. The Bruce Museum is grateful for the support of Green of Greenwich and Horseneck Wine &amp\; Spirits\, as well as Lanc</span><em><span style="font-family: arial\,sans-serif\;">&ocirc\;</span></em><span style="font-family: arial\,sans-serif\;">me and Betteridge for their exclusive raffle items. The event organizers also thank Moffly Media/<em>Greenwich</em> magazine for media sponsorship.</span><br />\n&nbsp\;<br />\n<span style="font-family: arial\,sans-serif\;">Advance registration is required for the <em>Art of Design</em> Luncheon and Fashion-Focused Conversation benefit event at Greenwich Country Club on Thursday\, June 6\, 2019\, 12 &ndash\; 2 pm. For tickets and further information\, please visit brucemuseum.org and click &ldquo\;Reservations\,&rdquo\; or contact Dawn Handwerker at <a href="mailto:dhandwerker@brucemuseum.org">dhandwerker@brucemuseum.org</a>.</span><br />\n&nbsp\;
LOCATION:Greenwich Country Club\, 19 Doubling Rd\, Greenwich\, CT 06830
UID:e.1905.5168974
SEQUENCE:3
DTSTAMP:20260424T155316Z
URL:https://business.greenwichchamber.com/events/details/bruce-museum-s-art-of-design-luncheon-and-fashion-focused-conversation-5168974
END:VEVENT

END:VCALENDAR
