BEGIN:VCALENDAR
VERSION:2.0
PRODID:-//ChamberMaster//Event Calendar 2.0//EN
METHOD:PUBLISH
X-PUBLISHED-TTL:P3D
REFRESH-INTERVAL:P3D
CALSCALE:GREGORIAN
BEGIN:VEVENT
DTSTART:20190604T150000Z
DTEND:20190605T000000Z
X-MICROSOFT-CDO-ALLDAYEVENT:FALSE
SUMMARY:Breast Cancer Alliance Tees Up for Annual Golf Outing
DESCRIPTION:Breast Cancer Alliance (BCA) holds an annual Golf Outing with the goal of funding novel research in the field of breast cancer. The Breast Cancer Alliance is one of the largest private non-corporate breast cancer organizations in the U.S. Breast Cancer Alliance has awarded over $25 million in grants supporting its mission to improve survival rates and quality of life for those impacted by breast cancer through better prevention\, early detection\, treatment and cure. To promote these goals\, the organization invests in innovative research\, breast surgery fellowships\, regional education\, dignified support and screening for the uninsured and underserved. WHEN: Tuesday\, June 4th\, 2019 11 a.m. Registration and Lunch Buffet on the Terrace 1:00 p.m. Shotgun Tee Off 5:30 p.m. Cocktails\, Dinner Buffet and Prizes WHERE: The Golf Club of Purchase\, 10 Country Club Drive\, Purchase\, NY 10577 WHO: Co-Chairs: Justin Nelson\, Suzanne & Tim Sennatt\, Lisa & Chip Skinner and Mary Quick & Jim Daras BCA Executive Director: Yonni Wattenmaker TO REGISTER: http://breastcanceralliance.org/events TICKETS: $1\,000 per golfer\, $3\,500 per foursome\, $250 for cocktails and dinner only BEVERAGE SPONSORS: Josh Cellars and Ithaca Beer For information please contact: info@breastcanceralliance.org 203-861-0014 For media inquiries please contact: Biddle & Bellidora Communications - Christine M. Biddle- christine@christinembiddle.com 914-763-3843
X-ALT-DESC;FMTTYPE=text/html:Breast Cancer Alliance (BCA) holds an annual Golf Outing with the goal of funding novel research in the field of breast cancer. The Breast Cancer Alliance is one of the largest private non-corporate breast cancer organizations in the U.S. Breast Cancer Alliance has awarded over $25 million in grants supporting its mission to improve survival rates and quality of life for those impacted by breast cancer through better prevention\, early detection\, treatment and cure. To promote these goals\, the organization invests in innovative research\, breast surgery fellowships\, regional education\, dignified support and screening for the uninsured and underserved. WHEN: Tuesday\, June 4th\, 2019 11 a.m. Registration and Lunch Buffet on the Terrace 1:00 p.m. Shotgun Tee Off 5:30 p.m. Cocktails\, Dinner Buffet and Prizes WHERE: The Golf Club of Purchase\, 10 Country Club Drive\, Purchase\, NY 10577 WHO: Co-Chairs: Justin Nelson\, Suzanne &amp\; Tim Sennatt\, Lisa &amp\; Chip Skinner and Mary Quick &amp\; Jim Daras BCA Executive Director: Yonni Wattenmaker TO REGISTER: http://breastcanceralliance.org/events TICKETS: $1\,000 per golfer\, $3\,500 per foursome\, $250 for cocktails and dinner only BEVERAGE SPONSORS: Josh Cellars and Ithaca Beer For information please contact: info@breastcanceralliance.org 203-861-0014 For media inquiries please contact: Biddle &amp\; Bellidora Communications - Christine M. Biddle- christine@christinembiddle.com 914-763-3843
LOCATION:The Golf Club of Purchase\, 10 Country Club Drive\, Purchase\, NY 10577
UID:e.1905.5168984
SEQUENCE:3
DTSTAMP:20260424T141421Z
URL:https://business.greenwichchamber.com/events/details/breast-cancer-alliance-tees-up-for-annual-golf-outing-06-04-2019-5168984
END:VEVENT

END:VCALENDAR
