BEGIN:VCALENDAR
VERSION:2.0
PRODID:-//ChamberMaster//Event Calendar 2.0//EN
METHOD:PUBLISH
X-PUBLISHED-TTL:P3D
REFRESH-INTERVAL:P3D
CALSCALE:GREGORIAN
BEGIN:VEVENT
DTSTART:20051220T223000Z
DTEND:20051221T020000Z
X-MICROSOFT-CDO-ALLDAYEVENT:FALSE
SUMMARY:2005 Holiday Mixer
DESCRIPTION:An evening of music\, dancing and great company.
X-ALT-DESC;FMTTYPE=text/html:An evening of music\, dancing and great company.
LOCATION:Hyatt Regency-Greenwich\, 1800 East Putnam Avenue\, Old Greenwichsponsored by Hyatt Regency-Greenwich and Greenwich Time
UID:e.1905.5035507
SEQUENCE:3
DTSTAMP:20260425T142228Z
URL:https://business.greenwichchamber.com/events/details/2005-holiday-mixer-12-20-2005-5035507
END:VEVENT

END:VCALENDAR
