BEGIN:VCALENDAR
VERSION:2.0
PRODID:-//ChamberMaster//Event Calendar 2.0//EN
METHOD:PUBLISH
X-PUBLISHED-TTL:P3D
REFRESH-INTERVAL:P3D
CALSCALE:GREGORIAN
BEGIN:VEVENT
DTSTART:20051214T130000Z
DTEND:20051214T143000Z
X-MICROSOFT-CDO-ALLDAYEVENT:FALSE
SUMMARY:2005 December Networking Breakfast
DESCRIPTION:Window Wonderland Decorating Contest Winners will be announced at this event!
X-ALT-DESC;FMTTYPE=text/html:Window Wonderland Decorating Contest Winners will be announced at this event!
LOCATION:Garden Education Center of Greenwich\, 130 Bible Street\, Cos Cobsponsored by: ConnectiCare
UID:e.1905.5035511
SEQUENCE:3
DTSTAMP:20260425T143539Z
URL:https://business.greenwichchamber.com/events/details/2005-december-networking-breakfast-12-14-2005-5035511
END:VEVENT

END:VCALENDAR
