BEGIN:VCALENDAR
VERSION:2.0
PRODID:-//ChamberMaster//Event Calendar 2.0//EN
METHOD:PUBLISH
X-PUBLISHED-TTL:P3D
REFRESH-INTERVAL:P3D
CALSCALE:GREGORIAN
BEGIN:VEVENT
DTSTART:20051201T164500Z
DTEND:20051201T183000Z
X-MICROSOFT-CDO-ALLDAYEVENT:FALSE
SUMMARY:2005 December Lunch Box Series
DESCRIPTION:Business Succession Planningpresented by Jessie A. Gilbert\, Esq. and Douglas H. Olin\, Esq.\, Cummings & LockwoodA must-attend event for the smart business entrepreneur who wants to plan ahead.
X-ALT-DESC;FMTTYPE=text/html:Business Succession Planningpresented by Jessie A. Gilbert\, Esq. and Douglas H. Olin\, Esq.\, Cummings & LockwoodA must-attend event for the smart business entrepreneur who wants to plan ahead.
LOCATION:Redmen Hall\, 17 East Elm Street\, 2nd Floor\, Greenwich
UID:e.1905.5035503
SEQUENCE:3
DTSTAMP:20260425T160640Z
URL:https://business.greenwichchamber.com/events/details/2005-december-lunch-box-series-12-01-2005-5035503
END:VEVENT

END:VCALENDAR
