BEGIN:VCALENDAR
VERSION:2.0
PRODID:-//ChamberMaster//Event Calendar 2.0//EN
METHOD:PUBLISH
X-PUBLISHED-TTL:P3D
REFRESH-INTERVAL:P3D
CALSCALE:GREGORIAN
BEGIN:VEVENT
DTSTART;VALUE=DATE:20221209
DTEND;VALUE=DATE:20221210
TRANSP:TRANSPARENT
X-MICROSOFT-CDO-ALLDAYEVENT:TRUE
SUMMARY:Waterstone of High Ridge Holiday Shopping Fair
DESCRIPTION:Waterstone on High Ridge holiday fair features local vendors that will help you pick the perfect gift for everyone. Local vendors will be selling handmade jewelry\, handmade soaps\, crafts\, art and even apparel for your pet! Come enjoy some holiday cheer while you shop.
X-ALT-DESC;FMTTYPE=text/html:<p><span style="font-family:arial\,sans-serif">Waterstone on High Ridge holiday fair features local vendors that will help you pick the perfect gift for everyone. Local vendors will be selling handmade jewelry\, handmade soaps\, crafts\, art and even apparel for your pet! Come enjoy some holiday cheer while you shop.</span></p>\n\n<p><span style="font-family:arial\,sans-serif">&nbsp\;</span></p>\n
LOCATION:Waterstone on High Ridge\, 215 High Ridge Road\, Stamford\, CT 06905
UID:e.1905.5173204
SEQUENCE:3
DTSTAMP:20260421T082833Z
URL:http://business.greenwichchamber.com/events/details/waterstone-of-high-ridge-holiday-shopping-fair-5173204
END:VEVENT

END:VCALENDAR
