BEGIN:VCALENDAR
VERSION:2.0
PRODID:-//ChamberMaster//Event Calendar 2.0//EN
METHOD:PUBLISH
X-PUBLISHED-TTL:P3D
REFRESH-INTERVAL:P3D
CALSCALE:GREGORIAN
BEGIN:VEVENT
DTSTART:20191211T000000Z
DTEND:20191211T013000Z
X-MICROSOFT-CDO-ALLDAYEVENT:FALSE
SUMMARY:Thriving During the Holidays: Essential Oil Support
DESCRIPTION:Essential Oils are a wonderful way to manage your health and keep you looking & feeling great!! About this Event Thriving During the Holidays: Essential Oil Support The holiday season can offer a much needed change of pace from the usual hustle and bustle of everyday life. These occasions provide an opportunity to spend time with family and take a break from work. However\, additional commitments and tasks can create anxious feelings and stress. Using essential oils can help alleviate overwhelm brought on by the holidays well as keep your mood up during these darker colder days. Join us to find out how you can thrive during the holidays by using essential oils. Participants will get to make their own essential oil blend for support. (Oh\, and did we mention that make great gifts too!) Kristen Rzasa helps others shine. She is an entrepreneur\, speaker\, blogger\, podcaster and fitness instructor who focuses on creating better health through natural solutions\, combining hands-off body work and essential oils to help clients to feel good in their bodies and in their lives.
X-ALT-DESC;FMTTYPE=text/html:Essential Oils are a wonderful way to manage your health and keep you looking &amp\; feeling great!! About this Event Thriving During the Holidays: Essential Oil Support The holiday season can offer a much needed change of pace from the usual hustle and bustle of everyday life. These occasions provide an opportunity to spend time with family and take a break from work. However\, additional commitments and tasks can create anxious feelings and stress. Using essential oils can help alleviate overwhelm brought on by the holidays well as keep your mood up during these darker colder days. Join us to find out how you can thrive during the holidays by using essential oils. Participants will get to make their own essential oil blend for support. (Oh\, and did we mention that make great gifts too!) Kristen Rzasa helps others shine. She is an entrepreneur\, speaker\, blogger\, podcaster and fitness instructor who focuses on creating better health through natural solutions\, combining hands-off body work and essential oils to help clients to feel good in their bodies and in their lives.
LOCATION:Osteostrong Greenwich 10 Milbank Avenue Greenwich\, CT 06830 United States
UID:e.1905.5171278
SEQUENCE:3
DTSTAMP:20260425T105933Z
URL:http://business.greenwichchamber.com/events/details/thriving-during-the-holidays-essential-oil-support-5171278
END:VEVENT

END:VCALENDAR
