BEGIN:VCALENDAR
VERSION:2.0
PRODID:-//ChamberMaster//Event Calendar 2.0//EN
METHOD:PUBLISH
X-PUBLISHED-TTL:P3D
REFRESH-INTERVAL:P3D
CALSCALE:GREGORIAN
BEGIN:VEVENT
DTSTART:20200304T000000Z
DTEND:20200304T020000Z
X-MICROSOFT-CDO-ALLDAYEVENT:FALSE
SUMMARY:The Upstanders Movie Screening
DESCRIPTION:The Upstanders explores cyber-bullying\, bullying among friends\, families\, co-workers\, and the brain science behind it all. The film highlights new laws and programs already reducing bullying in schools and shows us how we can learn to make a difference together to create systemic change. The film is appropriate for anyone age 13 and up. The film will be followed by a Q&A led by local mental health and educational professionals.
X-ALT-DESC;FMTTYPE=text/html:The Upstanders explores cyber-bullying\, bullying among friends\, families\, co-workers\, and the brain science behind it all. The film highlights new laws and programs already reducing bullying in schools and shows us how we can learn to make a difference together to create systemic change. The film is appropriate for anyone age 13 and up. The film will be followed by a Q&amp\;A led by local mental health and educational professionals.
LOCATION:Greenwich Bow Tie Criterion Cinemas
UID:e.1905.5171531
SEQUENCE:3
DTSTAMP:20260425T040009Z
URL:http://business.greenwichchamber.com/events/details/the-upstanders-movie-screening-5171531
END:VEVENT

END:VCALENDAR
