BEGIN:VCALENDAR
VERSION:2.0
PRODID:-//ChamberMaster//Event Calendar 2.0//EN
METHOD:PUBLISH
X-PUBLISHED-TTL:P3D
REFRESH-INTERVAL:P3D
CALSCALE:GREGORIAN
BEGIN:VEVENT
DTSTART:20230423T180000Z
DTEND:20230423T200000Z
X-MICROSOFT-CDO-ALLDAYEVENT:FALSE
SUMMARY:Pet Portraits
DESCRIPTION:Join us at Jenni Kayne for personalized Pet Portraits with local Artist Rachel Hearn.
X-ALT-DESC;FMTTYPE=text/html:<p>Join us at Jenni Kayne for personalized Pet Portraits with local Artist Rachel Hearn.<br />\n<br />\n<br />\n&nbsp\;</p>\n
LOCATION:Jenni Kayne 271 Greenwich Avenue Greenwich\, CT
UID:e.1905.5173614
SEQUENCE:3
DTSTAMP:20260420T232848Z
URL:http://business.greenwichchamber.com/events/details/pet-portraits-5173614
END:VEVENT

END:VCALENDAR
