BEGIN:VCALENDAR
VERSION:2.0
PRODID:-//ChamberMaster//Event Calendar 2.0//EN
METHOD:PUBLISH
X-PUBLISHED-TTL:P3D
REFRESH-INTERVAL:P3D
CALSCALE:GREGORIAN
BEGIN:VEVENT
DTSTART:20221118T140000Z
DTEND:20221118T160000Z
X-MICROSOFT-CDO-ALLDAYEVENT:FALSE
SUMMARY:Pathways to Empathy: Spiritual Empathy
DESCRIPTION:A workshop presented by The Greens at Greenwich that will explore our individual spiritual empathy and how it informs how we live our life. Examples of personal experiences and research based in neuroscience will be discussed. Led by Maria Scaros\, Clinical Chaplain\, Drama Therapist and Executive Director for The Greens at Greenwich
X-ALT-DESC;FMTTYPE=text/html:A workshop presented by The Greens at Greenwich that will explore our individual spiritual empathy and how it informs how we live our life. Examples of personal experiences and research based in neuroscience will be discussed. Led by Maria Scaros\, Clinical Chaplain\, Drama Therapist and Executive Director for The Greens at Greenwich
LOCATION:Christ Church Chapel 254 East Putnam Avenue\, Greeniwch
UID:e.1905.5173202
SEQUENCE:3
DTSTAMP:20260421T093912Z
URL:http://business.greenwichchamber.com/events/details/pathways-to-empathy-spiritual-empathy-5173202
END:VEVENT

END:VCALENDAR
