BEGIN:VCALENDAR
VERSION:2.0
PRODID:-//ChamberMaster//Event Calendar 2.0//EN
METHOD:PUBLISH
X-PUBLISHED-TTL:P3D
REFRESH-INTERVAL:P3D
CALSCALE:GREGORIAN
BEGIN:VEVENT
DTSTART:20200408T173000Z
DTEND:20200408T181500Z
X-MICROSOFT-CDO-ALLDAYEVENT:FALSE
SUMMARY:Livestream with Fred Camillo on Zoom
DESCRIPTION:Free Live Session. Join First Selectman\, Fred Camillo\, on Zoom to hear the latest updates on COVID-19 in Greenwich. To connect to a FREE live session: Computer: click on this Zoom link: https://zoom.us/j/624949129 Smartphone or tablet: first\, download the free Zoom app from the App Store. 10 minutes before the scheduled session\, go to this Zoom link: https://zoom.us/j/624949129
X-ALT-DESC;FMTTYPE=text/html:Free Live Session. Join First Selectman\, Fred Camillo\, on Zoom to hear the latest updates on COVID-19 in Greenwich. To connect to a FREE live session: Computer: click on this Zoom link: https://zoom.us/j/624949129 Smartphone or tablet: first\, download the free Zoom app from the App Store. 10 minutes before the scheduled session\, go to this Zoom link: https://zoom.us/j/624949129
LOCATION:In Your Home
UID:e.1905.5171560
SEQUENCE:3
DTSTAMP:20260425T012207Z
URL:http://business.greenwichchamber.com/events/details/livestream-with-fred-camillo-on-zoom-5171560
END:VEVENT

END:VCALENDAR
