BEGIN:VCALENDAR
VERSION:2.0
PRODID:-//ChamberMaster//Event Calendar 2.0//EN
METHOD:PUBLISH
X-PUBLISHED-TTL:P3D
REFRESH-INTERVAL:P3D
CALSCALE:GREGORIAN
BEGIN:VEVENT
DTSTART:20191119T233000Z
DTEND:20191120T011500Z
X-MICROSOFT-CDO-ALLDAYEVENT:FALSE
SUMMARY:"How Cognition Changes As We Age."
DESCRIPTION:FREE TALK\, refreshments and light bites. We rely on our cognition to remember information\, pay attention\, and problem solve. Learn how and why our cognitive abilities change and the implications for our lives.
X-ALT-DESC;FMTTYPE=text/html:FREE TALK\, refreshments and light bites. We rely on our cognition to remember information\, pay attention\, and problem solve. Learn how and why our cognitive abilities change and the implications for our lives.
LOCATION:YWCA\, 259 East Putnam Ave.\, Greenwich\, CT 06830
UID:e.1905.5171273
SEQUENCE:3
DTSTAMP:20260426T004758Z
URL:http://business.greenwichchamber.com/events/details/how-cognition-changes-as-we-age-5171273
END:VEVENT

END:VCALENDAR
