BEGIN:VCALENDAR
VERSION:2.0
PRODID:-//ChamberMaster//Event Calendar 2.0//EN
METHOD:PUBLISH
X-PUBLISHED-TTL:P3D
REFRESH-INTERVAL:P3D
CALSCALE:GREGORIAN
BEGIN:VEVENT
DTSTART:20221120T170000Z
DTEND:20221120T210000Z
X-MICROSOFT-CDO-ALLDAYEVENT:FALSE
SUMMARY:Gilda's Holiday Vendor Boutique
DESCRIPTION:Stop in to shop for the holidays and see the beautiful renovated Teen Cancer Center which was featured on NBC's George to the Rescue! Kids activities\, Bake Sale and raffles will be available. Admission is free and open to the public and offers something fun for the whole family!\n\n \n\n\n\nVendors include: Adam Marc Jewels\, April Marin\, Barre Bodywear\, Clearly Yours\, Dreaming of Turquoise\, Excessorize\, G. Griffin Wine\, Grace Connell Designs\, Ilyses Pieces\, J. McLaughlin\, Loco Jewels\, Molly and Mags\, Pinky's of Greenwich\, Roadie Couture\, Scent Fluence\, Designer sunglasses by Meryl Roesch\, Sunzi Silks and The Chintz Giraffe. 15% of all sales will go back to the non-profit's cancer programming.\n\n\n\nHope to see you there!
X-ALT-DESC;FMTTYPE=text/html:<div>\n<div>Stop in to shop for the holidays and see the beautiful renovated Teen Cancer Center which was featured on NBC&rsquo\;s George to the Rescue! Kids activities\, Bake Sale and raffles will be available. Admission is free and open to the public and offers something fun for the whole family!<br />\n&nbsp\;</div>\n</div>\n\n<div>\n<div>Vendors include: Adam Marc Jewels\, April Marin\, Barre Bodywear\, Clearly Yours\, Dreaming of Turquoise\, Excessorize\, G. Griffin Wine\, Grace Connell Designs\, Ilyses Pieces\, J. McLaughlin\, Loco Jewels\, Molly and Mags\, Pinky&rsquo\;s of Greenwich\, Roadie Couture\, Scent Fluence\, Designer sunglasses by Meryl Roesch\, Sunzi Silks and The Chintz Giraffe. 15% of all sales will go back to the non-profit&rsquo\;s cancer programming.</div>\n</div>\n\n<div>\n<div>Hope to see you there!</div>\n</div>\n
LOCATION:Gilda's Club 80 Maple Avenue White Plains\, NY 10601
UID:e.1905.5173201
SEQUENCE:3
DTSTAMP:20260421T094039Z
URL:http://business.greenwichchamber.com/events/details/gilda-s-holiday-vendor-boutique-5173201
END:VEVENT

END:VCALENDAR
