BEGIN:VCALENDAR
VERSION:2.0
PRODID:-//ChamberMaster//Event Calendar 2.0//EN
METHOD:PUBLISH
X-PUBLISHED-TTL:P3D
REFRESH-INTERVAL:P3D
CALSCALE:GREGORIAN
BEGIN:VEVENT
DTSTART:20191113T230000Z
DTEND:20191114T010000Z
X-MICROSOFT-CDO-ALLDAYEVENT:FALSE
SUMMARY:Commercial Lease Negotiation
DESCRIPTION:Are you in the process of starting a new business and interested in renting a commercial space but don't know where to start? The Pace University Small Business Development Center (SBDC) has partnered with the City Bar Justice Center's Neighborhood Entrepreneur Law Project (NELP) and the Downtown Alliance to bring you legal professionals who will present on the basics of commercial leasing. They will provide you with key point information on topics ranging from research you should do before deciding on a space\, what you should look for in a written lease\, selecting an appropriate lease term\, to issues that may arise once you've signed the lease.
X-ALT-DESC;FMTTYPE=text/html:Are you in the process of starting a new business and interested in renting a commercial space but don&rsquo\;t know where to start? The Pace University Small Business Development Center (SBDC) has partnered with the City Bar Justice Center&rsquo\;s Neighborhood Entrepreneur Law Project (NELP) and the Downtown Alliance to bring you legal professionals who will present on the basics of commercial leasing. They will provide you with key point information on topics ranging from research you should do before deciding on a space\, what you should look for in a written lease\, selecting an appropriate lease term\, to issues that may arise once you&rsquo\;ve signed the lease.
LOCATION:Student Center West\, One Pace Plaza\, New York\, NY\, 10038
UID:e.1905.5171269
SEQUENCE:3
DTSTAMP:20260426T005536Z
URL:http://business.greenwichchamber.com/events/details/commercial-lease-negotiation-5171269
END:VEVENT

END:VCALENDAR
