BEGIN:VCALENDAR
VERSION:2.0
PRODID:-//ChamberMaster//Event Calendar 2.0//EN
METHOD:PUBLISH
X-PUBLISHED-TTL:P3D
REFRESH-INTERVAL:P3D
CALSCALE:GREGORIAN
BEGIN:VEVENT
DTSTART:20200402T220000Z
DTEND:20200403T030000Z
X-MICROSOFT-CDO-ALLDAYEVENT:FALSE
SUMMARY:Breast Cancer Alliance 1st Annual Poker Tournament
DESCRIPTION:Signature Cocktails\, Open Bar & Passed Hors D'Oeuvres Spectacular Prizes! WHEN: Thursday April 2\, 2020 VIP Cocktails 6:00 PM   11:00 PM Closed Poker Game 7:00 PM   1:00 AM WHERE: GlenArbor Golf Club 234 Bedford Center Road Bedford Hills\, NY 10605 HOSTS: Deerfield Management\, Kyrie Irving\, Monomoy Capital Partners\, Size Capital Management LLC\, Theraplant TICKETS: https://breastcanceralliance.org/events For Tickets\, Donations or Sponsorships Space is limited. For Media Inquiries: CMB Communications Christine@christinembiddle.com 914-763-3843
X-ALT-DESC;FMTTYPE=text/html:Signature Cocktails\, Open Bar &amp\; Passed Hors D&rsquo\;Oeuvres Spectacular Prizes! WHEN: Thursday April 2\, 2020 VIP Cocktails 6:00 PM &ndash\; 11:00 PM Closed Poker Game 7:00 PM &ndash\; 1:00 AM WHERE: GlenArbor Golf Club 234 Bedford Center Road Bedford Hills\, NY 10605 HOSTS: Deerfield Management\, Kyrie Irving\, Monomoy Capital Partners\, Size Capital Management LLC\, Theraplant TICKETS: https://breastcanceralliance.org/events For Tickets\, Donations or Sponsorships Space is limited. For Media Inquiries: CMB Communications Christine@christinembiddle.com 914-763-3843
LOCATION:GlenArbor Golf Club 234 Bedford Center Road Bedford Hills\, NY 10605
UID:e.1905.5171539
SEQUENCE:3
DTSTAMP:20260425T012752Z
URL:http://business.greenwichchamber.com/events/details/breast-cancer-alliance-1st-annual-poker-tournament-5171539
END:VEVENT

END:VCALENDAR
