BEGIN:VCALENDAR
VERSION:2.0
PRODID:-//ChamberMaster//Event Calendar 2.0//EN
METHOD:PUBLISH
X-PUBLISHED-TTL:P3D
REFRESH-INTERVAL:P3D
CALSCALE:GREGORIAN
BEGIN:VEVENT
DTSTART:20220721T140000Z
DTEND:20220721T180000Z
X-MICROSOFT-CDO-ALLDAYEVENT:FALSE
SUMMARY:A Day at DARCARS Hiring Event!
DESCRIPTION:A Day at DARCARS Hiring Event! \n\n \n    Come join us on Thursday\, July 21st from 10am - 2pm for our on-site hiring event. We will be hosting the event at our Lexus of Mt Kisco location\, located at 275 Kisco Ave\, Mt Kisco\, NY 10549. We will be hiring for all positions\, departments\, and locations. Our locations include Lexus of Greenwich\, INFINITI of Greenwich\, Lexus of Mt Kisco\, and Lexus of Englewood.\n\n \nApply and interview on-site. All experience levels welcome.
X-ALT-DESC;FMTTYPE=text/html:<div style="text-align:center"><span style="font-size:14px"><span style="font-family:tahoma"><strong>A Day at DARCARS Hiring Event!&nbsp\;</strong></span></span><br />\n&nbsp\;</div>\n&nbsp\;&nbsp\;&nbsp\;&nbsp\;<span style="font-size:14px"><span style="font-family:tahoma">Come join us on <strong>Thursday\, July 21st from 10am - 2pm</strong> for our on-site hiring event. We will be hosting the event at our Lexus of Mt Kisco location\, located at 275 Kisco Ave\, Mt Kisco\, NY 10549.&nbsp\;We will be hiring for all positions\, departments\, and locations. Our locations include Lexus of Greenwich\, INFINITI of Greenwich\, Lexus of Mt Kisco\, and Lexus of Englewood.</span></span><br />\n&nbsp\;\n<div style="text-align:center"><strong><span style="font-size:14px"><span style="font-family:tahoma">Apply and interview on-site. All experience levels welcome.</span></span></strong></div>\n
LOCATION:DARCARS Lexus of Mt Kisco 275 Kisco Ave\, Mt Kisco\, NY 10549
UID:e.1905.5173023
SEQUENCE:3
DTSTAMP:20260422T012312Z
URL:http://business.greenwichchamber.com/events/details/a-day-at-darcars-hiring-event-5173023
END:VEVENT

END:VCALENDAR
