BEGIN:VCALENDAR
VERSION:2.0
PRODID:-//ChamberMaster//Event Calendar 2.0//EN
METHOD:PUBLISH
X-PUBLISHED-TTL:P3D
REFRESH-INTERVAL:P3D
CALSCALE:GREGORIAN
BEGIN:VEVENT
DTSTART:20220714T140000Z
DTEND:20220717T220000Z
X-MICROSOFT-CDO-ALLDAYEVENT:FALSE
SUMMARY:2022 Sidewalk Sales
DESCRIPTION:The largest annual shopping extravaganza of the year!  Thousands of shoppers looking for great deals during this four day outdoor shopping event.
X-ALT-DESC;FMTTYPE=text/html:<div style="text-align: center\;">&nbsp\;</div>\n<br />\nThe largest annual shopping extravaganza of the year!&nbsp\; Thousands of shoppers looking for great deals during this four day outdoor shopping event.
LOCATION:Greenwich Avenue and side streets
UID:e.1905.5172975
SEQUENCE:3
DTSTAMP:20260422T012928Z
URL:http://business.greenwichchamber.com/events/details/2022-sidewalk-sales-5172975
END:VEVENT

END:VCALENDAR
