BEGIN:VCALENDAR
VERSION:2.0
PRODID:-//ChamberMaster//Event Calendar 2.0//EN
METHOD:PUBLISH
X-PUBLISHED-TTL:P3D
REFRESH-INTERVAL:P3D
CALSCALE:GREGORIAN
BEGIN:VEVENT
DTSTART:20221201T223000Z
DTEND:20221202T000000Z
X-MICROSOFT-CDO-ALLDAYEVENT:FALSE
SUMMARY:2022 Holiday Party-SOLD OUT
DESCRIPTION:JOIN US AT OUR HOLIDAY PARTY --SOLD OUT!\n\nAT GINGERMAN ON \n\nTHURSDAY\, DECEMBER 1ST\n\n \n\nWe are getting an early start to our holiday celebrations. Please join us on December 1st for music\, mingling and fun with your Chamber friends. There will be numerous drawings for special prizes-- you could be lucky!\n\n \nPrizes. Music. Bites. All above beautiful Greenwich Avenue.\n\n\nWe love it when our Chamber members like Metro Mattress show true community engagement. A virtual round of applause for their hosting our Chamber's Holiday Party!
X-ALT-DESC;FMTTYPE=text/html:<div style="color: rgb(46\, 47\, 47)\; font-family: Lato\, sans-serif\; font-size: 16px\; white-space: pre-wrap\; text-align: center\;"><span style="font-size: 18px\; color: rgb(36\, 36\, 36)\; font-weight: bold\;">JOIN US AT OUR HOLIDAY PARTY --SOLD OUT!</span></div>\n\n<div style="color: rgb(46\, 47\, 47)\; font-family: Lato\, sans-serif\; font-size: 16px\; white-space: pre-wrap\; text-align: center\;"><span style="font-size: 18px\; color: rgb(36\, 36\, 36)\; font-weight: bold\;">AT GINGERMAN ON </span></div>\n\n<div style="color: rgb(46\, 47\, 47)\; font-family: Lato\, sans-serif\; font-size: 16px\; white-space: pre-wrap\; text-align: center\;"><span style="font-size: 18px\; color: rgb(36\, 36\, 36)\; font-weight: bold\;">THURSDAY\, DECEMBER 1</span><sup style="line-height: 0\; font-size: 18px\; color: rgb(36\, 36\, 36)\; font-weight: bold\;">ST</sup></div>\n\n<div style="color: rgb(46\, 47\, 47)\; font-family: Lato\, sans-serif\; font-size: 16px\; white-space: pre-wrap\; text-align: center\;"><span style="font-size: 18px\; color: rgb(36\, 36\, 36)\;">&nbsp\;</span></div>\n\n<div style="color: rgb(46\, 47\, 47)\; font-family: Lato\, sans-serif\; font-size: 16px\; white-space: pre-wrap\;"><span style="font-size: 18px\; color: rgb(36\, 36\, 36)\;">We are getting an early start to our holiday celebrations.&nbsp\;Please join us on December 1</span><sup style="line-height: 0\; font-size: 18px\; color: rgb(36\, 36\, 36)\;">st</sup><span style="font-size: 18px\; color: rgb(36\, 36\, 36)\;">&nbsp\;for music\, mingling and fun with your Chamber friends.&nbsp\;There will be numerous drawings for special prizes-- you could be lucky!</span></div>\n\n<div style="color: rgb(46\, 47\, 47)\; font-family: Lato\, sans-serif\; font-size: 16px\; white-space: pre-wrap\;">&nbsp\;\n<div style="color: rgb(46\, 47\, 47)\; font-family: Lato\, sans-serif\; font-size: 16px\; white-space: pre-wrap\;"><span style="font-size: 18px\; color: rgb(36\, 36\, 36)\;">Prizes.&nbsp\;Music. Bites.&nbsp\;All above beautiful Greenwich Avenue.</span></div>\n</div>\n\n<div style="color: rgb(46\, 47\, 47)\; font-family: Lato\, sans-serif\; font-size: 16px\; white-space: pre-wrap\;"><span style="font-size: 18px\; color: rgb(36\, 36\, 36)\;">We love it when our Chamber members like&nbsp\;</span><span style="font-size: 18px\; color: rgb(36\, 36\, 36)\; font-weight: bold\;">Metro Mattress</span><span style="font-size: 18px\; color: rgb(36\, 36\, 36)\;">&nbsp\;show true community engagement.&nbsp\;A virtual round of applause for their hosting our Chamber&rsquo\;s Holiday Party!</span><br />\n&nbsp\;</div>\n\n<div style="color: rgb(46\, 47\, 47)\; font-family: Lato\, sans-serif\; font-size: 16px\; white-space: pre-wrap\; text-align: center\;">&nbsp\;</div>\n\n<div style="color: rgb(46\, 47\, 47)\; font-family: Lato\, sans-serif\; font-size: 16px\; white-space: pre-wrap\; text-align: center\;">&nbsp\;</div>\n\n<div style="color: rgb(46\, 47\, 47)\; font-family: Lato\, sans-serif\; font-size: 16px\; white-space: pre-wrap\;">&nbsp\;</div>\n
LOCATION:Gingerman Restaurant 64 Greenwich Avenue SOLD OUT
UID:e.1905.5173199
SEQUENCE:3
DTSTAMP:20260421T082808Z
URL:http://business.greenwichchamber.com/events/details/2022-holiday-party-sold-out-5173199
END:VEVENT

END:VCALENDAR
